BEGIN:VCALENDAR
VERSION:2.0
PRODID:-//topekatheatre.com - ECPv6.8.3//NONSGML v1.0//EN
CALSCALE:GREGORIAN
METHOD:PUBLISH
X-WR-CALNAME:topekatheatre.com
X-ORIGINAL-URL:https://topekatheatre.com
X-WR-CALDESC:Events for topekatheatre.com
REFRESH-INTERVAL;VALUE=DURATION:PT1H
X-Robots-Tag:noindex
X-PUBLISHED-TTL:PT1H
BEGIN:VTIMEZONE
TZID:America/North_Dakota/Center
BEGIN:DAYLIGHT
TZOFFSETFROM:-0600
TZOFFSETTO:-0500
TZNAME:CDT
DTSTART:20240310T080000
END:DAYLIGHT
BEGIN:STANDARD
TZOFFSETFROM:-0500
TZOFFSETTO:-0600
TZNAME:CST
DTSTART:20241103T070000
END:STANDARD
END:VTIMEZONE
BEGIN:VEVENT
DTSTART;TZID=America/North_Dakota/Center:20240412T190000
DTEND;TZID=America/North_Dakota/Center:20240412T210000
DTSTAMP:20260420T081240
CREATED:20231206T213938Z
LAST-MODIFIED:20231209T173342Z
UID:77-1712948400-1712955600@topekatheatre.com
SUMMARY:Complete Works of Shakespeare Abridged
DESCRIPTION:Washburn Rural Spring Play
URL:https://topekatheatre.com/index.php/event/washburn-rural/
LOCATION:Washburn Rural Auditorium\, 5900 SW 61st St\, Topeka\, KS\, 66619
CATEGORIES:Washburn Rural
END:VEVENT
BEGIN:VEVENT
DTSTART;TZID=America/North_Dakota/Center:20240412T190000
DTEND;TZID=America/North_Dakota/Center:20240412T210000
DTSTAMP:20260420T081240
CREATED:20231209T185131Z
LAST-MODIFIED:20231209T194742Z
UID:118-1712948400-1712955600@topekatheatre.com
SUMMARY:Musical
DESCRIPTION:Cair Paravel Latin School
URL:https://topekatheatre.com/index.php/event/musical-5/
LOCATION:Stone Table Theater\, 1148 SW 7th St\, Topeka\, KS\, 66606
CATEGORIES:Cair Paravel
END:VEVENT
END:VCALENDAR