BEGIN:VCALENDAR
VERSION:2.0
PRODID:-//topekatheatre.com - ECPv6.8.3//NONSGML v1.0//EN
CALSCALE:GREGORIAN
METHOD:PUBLISH
X-ORIGINAL-URL:https://topekatheatre.com
X-WR-CALDESC:Events for topekatheatre.com
REFRESH-INTERVAL;VALUE=DURATION:PT1H
X-Robots-Tag:noindex
X-PUBLISHED-TTL:PT1H
BEGIN:VTIMEZONE
TZID:America/North_Dakota/Center
BEGIN:DAYLIGHT
TZOFFSETFROM:-0600
TZOFFSETTO:-0500
TZNAME:CDT
DTSTART:20240310T080000
END:DAYLIGHT
BEGIN:STANDARD
TZOFFSETFROM:-0500
TZOFFSETTO:-0600
TZNAME:CST
DTSTART:20241103T070000
END:STANDARD
END:VTIMEZONE
BEGIN:VEVENT
DTSTART;TZID=America/North_Dakota/Center:20241108T190000
DTEND;TZID=America/North_Dakota/Center:20241108T200000
DTSTAMP:20260419T192725
CREATED:20240902T162808Z
LAST-MODIFIED:20240902T162808Z
UID:228-1731092400-1731096000@topekatheatre.com
SUMMARY:Beowulf and the Bard - Highland Park
DESCRIPTION:Highland Park Fall Play
URL:https://topekatheatre.com/index.php/event/beowulf-and-the-bard-highland-park/
LOCATION:Highland Park\, 2424 SE California Ave\, Topeka\, KS\, 66605
CATEGORIES:Highland Park
END:VEVENT
BEGIN:VEVENT
DTSTART;TZID=America/North_Dakota/Center:20241108T190000
DTEND;TZID=America/North_Dakota/Center:20241108T200000
DTSTAMP:20260419T192725
CREATED:20240902T172134Z
LAST-MODIFIED:20240902T182819Z
UID:234-1731092400-1731096000@topekatheatre.com
SUMMARY:Taming the Wild Wild West in a Dress - Seaman High
DESCRIPTION:Seaman High Fall Play
URL:https://topekatheatre.com/index.php/event/fall-play-seaman-high/
LOCATION:Seaman Auditorium\, 901 NW Lyman Rd\, Topeka\, KS\, 66608
END:VEVENT
END:VCALENDAR