BEGIN:VCALENDAR
VERSION:2.0
PRODID:-//topekatheatre.com - ECPv6.8.3//NONSGML v1.0//EN
CALSCALE:GREGORIAN
METHOD:PUBLISH
X-WR-CALNAME:topekatheatre.com
X-ORIGINAL-URL:https://topekatheatre.com
X-WR-CALDESC:Events for topekatheatre.com
REFRESH-INTERVAL;VALUE=DURATION:PT1H
X-Robots-Tag:noindex
X-PUBLISHED-TTL:PT1H
BEGIN:VTIMEZONE
TZID:America/North_Dakota/Center
BEGIN:DAYLIGHT
TZOFFSETFROM:-0600
TZOFFSETTO:-0500
TZNAME:CDT
DTSTART:20240310T080000
END:DAYLIGHT
BEGIN:STANDARD
TZOFFSETFROM:-0500
TZOFFSETTO:-0600
TZNAME:CST
DTSTART:20241103T070000
END:STANDARD
END:VTIMEZONE
BEGIN:VEVENT
DTSTART;TZID=America/North_Dakota/Center:20240215T190000
DTEND;TZID=America/North_Dakota/Center:20240215T210000
DTSTAMP:20260422T091752
CREATED:20231209T190531Z
LAST-MODIFIED:20231209T190531Z
UID:123-1708023600-1708030800@topekatheatre.com
SUMMARY:Mean Girls: High School Edition the Musical
DESCRIPTION:Topeka High School
URL:https://topekatheatre.com/index.php/event/mean-girls-high-school-edition-the-musical/
LOCATION:Trojan Theater\, 800 Sw 10th St\, Topeka\, KS\, 66612
CATEGORIES:Topeka High
END:VEVENT
BEGIN:VEVENT
DTSTART;TZID=America/North_Dakota/Center:20240216T190000
DTEND;TZID=America/North_Dakota/Center:20240216T210000
DTSTAMP:20260422T091752
CREATED:20231209T190902Z
LAST-MODIFIED:20231209T195340Z
UID:125-1708110000-1708117200@topekatheatre.com
SUMMARY:Mean Girls: High School Edition the Musical
DESCRIPTION:Topeka High School
URL:https://topekatheatre.com/index.php/event/mean-girls-high-school-edition-the-musical-2/
LOCATION:Trojan Theater\, 800 Sw 10th St\, Topeka\, KS\, 66612
CATEGORIES:Topeka High
END:VEVENT
BEGIN:VEVENT
DTSTART;TZID=America/North_Dakota/Center:20240217T190000
DTEND;TZID=America/North_Dakota/Center:20240217T210000
DTSTAMP:20260422T091752
CREATED:20231209T191011Z
LAST-MODIFIED:20231209T191011Z
UID:127-1708196400-1708203600@topekatheatre.com
SUMMARY:Mean Girls: High School Edition the Musical
DESCRIPTION:Topeka High School
URL:https://topekatheatre.com/index.php/event/mean-girls-high-school-edition-the-musical-3/
LOCATION:Trojan Theater\, 800 Sw 10th St\, Topeka\, KS\, 66612
CATEGORIES:Topeka High
END:VEVENT
END:VCALENDAR