BEGIN:VCALENDAR
VERSION:2.0
PRODID:-//topekatheatre.com - ECPv6.8.3//NONSGML v1.0//EN
CALSCALE:GREGORIAN
METHOD:PUBLISH
X-WR-CALNAME:topekatheatre.com
X-ORIGINAL-URL:https://topekatheatre.com
X-WR-CALDESC:Events for topekatheatre.com
REFRESH-INTERVAL;VALUE=DURATION:PT1H
X-Robots-Tag:noindex
X-PUBLISHED-TTL:PT1H
BEGIN:VTIMEZONE
TZID:America/North_Dakota/Center
BEGIN:DAYLIGHT
TZOFFSETFROM:-0600
TZOFFSETTO:-0500
TZNAME:CDT
DTSTART:20250309T080000
END:DAYLIGHT
BEGIN:STANDARD
TZOFFSETFROM:-0500
TZOFFSETTO:-0600
TZNAME:CST
DTSTART:20251102T070000
END:STANDARD
END:VTIMEZONE
BEGIN:VEVENT
DTSTART;TZID=America/North_Dakota/Center:20250412T190000
DTEND;TZID=America/North_Dakota/Center:20250412T213000
DTSTAMP:20260419T141221
CREATED:20250118T183520Z
LAST-MODIFIED:20250118T183520Z
UID:297-1744484400-1744493400@topekatheatre.com
SUMMARY:Sense & Sensibility - Washburn Rural
DESCRIPTION:Spring Play – Washburn Rural
URL:https://topekatheatre.com/index.php/event/sense-sensibility-washburn-rural-3/
LOCATION:Washburn Rural Auditorium\, 5900 SW 61st St\, Topeka\, KS\, 66619
CATEGORIES:Washburn Rural
END:VEVENT
BEGIN:VEVENT
DTSTART;TZID=America/North_Dakota/Center:20250417T190000
DTEND;TZID=America/North_Dakota/Center:20250417T213000
DTSTAMP:20260419T141221
CREATED:20250118T185039Z
LAST-MODIFIED:20250118T185039Z
UID:310-1744916400-1744925400@topekatheatre.com
SUMMARY:Funny Money - Topeka High
DESCRIPTION:Topeka High Spring Play
URL:https://topekatheatre.com/index.php/event/funny-money-topeka-high/
LOCATION:Trojan Theater\, 800 Sw 10th St\, Topeka\, KS\, 66612
CATEGORIES:Topeka High
END:VEVENT
BEGIN:VEVENT
DTSTART;TZID=America/North_Dakota/Center:20250418T190000
DTEND;TZID=America/North_Dakota/Center:20250418T213000
DTSTAMP:20260419T141221
CREATED:20250118T185146Z
LAST-MODIFIED:20250118T185146Z
UID:312-1745002800-1745011800@topekatheatre.com
SUMMARY:Funny Money - Topeka High
DESCRIPTION:Topeka High Spring Play
URL:https://topekatheatre.com/index.php/event/funny-money-topeka-high-2/
LOCATION:Trojan Theater\, 800 Sw 10th St\, Topeka\, KS\, 66612
CATEGORIES:Topeka High
END:VEVENT
BEGIN:VEVENT
DTSTART;TZID=America/North_Dakota/Center:20250419T190000
DTEND;TZID=America/North_Dakota/Center:20250419T213000
DTSTAMP:20260419T141221
CREATED:20250118T185316Z
LAST-MODIFIED:20250118T185316Z
UID:314-1745089200-1745098200@topekatheatre.com
SUMMARY:Funny Money - Topeka High
DESCRIPTION:Topeka High Spring Play
URL:https://topekatheatre.com/index.php/event/funny-money-topeka-high-3/
LOCATION:Trojan Theater\, 800 Sw 10th St\, Topeka\, KS\, 66612
CATEGORIES:Topeka High
END:VEVENT
BEGIN:VEVENT
DTSTART;TZID=America/North_Dakota/Center:20250424T190000
DTEND;TZID=America/North_Dakota/Center:20250424T200000
DTSTAMP:20260419T141221
CREATED:20240902T174748Z
LAST-MODIFIED:20240902T174748Z
UID:244-1745521200-1745524800@topekatheatre.com
SUMMARY:Student Directed One Acts - Seaman High
DESCRIPTION:Student Directed One Act Plays –  Seaman High
URL:https://topekatheatre.com/index.php/event/student-directed-one-acts-seaman-high/
LOCATION:Seaman Auditorium\, 901 NW Lyman Rd\, Topeka\, KS\, 66608
CATEGORIES:Seaman High
END:VEVENT
BEGIN:VEVENT
DTSTART;TZID=America/North_Dakota/Center:20250424T190000
DTEND;TZID=America/North_Dakota/Center:20250424T210000
DTSTAMP:20260419T141221
CREATED:20240902T190550Z
LAST-MODIFIED:20240902T190550Z
UID:263-1745521200-1745528400@topekatheatre.com
SUMMARY:Lend Me a Soprano - Topeka West
DESCRIPTION:Topeka West Spring Play
URL:https://topekatheatre.com/index.php/event/lend-me-a-soprano-topeka-west/
LOCATION:Topeka West\, 2001 SW Fairlawn Rd\, Topeka\, KS\, 66604
CATEGORIES:Topeka West
END:VEVENT
BEGIN:VEVENT
DTSTART;TZID=America/North_Dakota/Center:20250425T190000
DTEND;TZID=America/North_Dakota/Center:20250425T200000
DTSTAMP:20260419T141221
CREATED:20240902T175018Z
LAST-MODIFIED:20240902T193251Z
UID:246-1745607600-1745611200@topekatheatre.com
SUMMARY:Student Directed One Acts - Seaman High
DESCRIPTION:Seaman High Student Directed One Act Plays
URL:https://topekatheatre.com/index.php/event/student-directed-one-acts-seaman-high-2/
LOCATION:Seaman Auditorium\, 901 NW Lyman Rd\, Topeka\, KS\, 66608
CATEGORIES:Seaman High
END:VEVENT
BEGIN:VEVENT
DTSTART;TZID=America/North_Dakota/Center:20250425T190000
DTEND;TZID=America/North_Dakota/Center:20250425T210000
DTSTAMP:20260419T141221
CREATED:20240902T190805Z
LAST-MODIFIED:20240902T190805Z
UID:265-1745607600-1745614800@topekatheatre.com
SUMMARY:Lend Me a Soprano - Topeka West
DESCRIPTION:Topeka West Spring Play
URL:https://topekatheatre.com/index.php/event/lend-me-a-soprano-topeka-west-2/
LOCATION:Topeka West\, 2001 SW Fairlawn Rd\, Topeka\, KS\, 66604
CATEGORIES:Topeka West
END:VEVENT
BEGIN:VEVENT
DTSTART;TZID=America/North_Dakota/Center:20250426T190000
DTEND;TZID=America/North_Dakota/Center:20250426T210000
DTSTAMP:20260419T141221
CREATED:20240902T191801Z
LAST-MODIFIED:20240902T191801Z
UID:267-1745694000-1745701200@topekatheatre.com
SUMMARY:Lend Me a Soprano - Topeka West
DESCRIPTION:Topeka West Spring Play
URL:https://topekatheatre.com/index.php/event/lend-me-a-soprano-topeka-west-3/
LOCATION:Topeka West\, 2001 SW Fairlawn Rd\, Topeka\, KS\, 66604
CATEGORIES:Topeka West
END:VEVENT
BEGIN:VEVENT
DTSTART;TZID=America/North_Dakota/Center:20251002T190000
DTEND;TZID=America/North_Dakota/Center:20251002T200000
DTSTAMP:20260419T141221
CREATED:20250926T005045Z
LAST-MODIFIED:20250926T005045Z
UID:317-1759431600-1759435200@topekatheatre.com
SUMMARY:How to Make a Sandwich in 20 Easy Steps When All You Have is a Timemachine
DESCRIPTION:Seaman One Act
URL:https://topekatheatre.com/index.php/event/how-to-make-a-sandwich-in-20-easy-steps-when-all-you-have-is-a-timemachine/
LOCATION:Seaman Auditorium\, 901 NW Lyman Rd\, Topeka\, KS\, 66608
CATEGORIES:Seaman High
END:VEVENT
BEGIN:VEVENT
DTSTART;TZID=America/North_Dakota/Center:20251003T190000
DTEND;TZID=America/North_Dakota/Center:20251003T200000
DTSTAMP:20260419T141221
CREATED:20250926T005154Z
LAST-MODIFIED:20250926T005154Z
UID:319-1759518000-1759521600@topekatheatre.com
SUMMARY:How to Make a Sandwich in 20 Easy Steps When All You Have is a Timemachine
DESCRIPTION:Seaman One Act
URL:https://topekatheatre.com/index.php/event/how-to-make-a-sandwich-in-20-easy-steps-when-all-you-have-is-a-timemachine-2/
LOCATION:Seaman Auditorium\, 901 NW Lyman Rd\, Topeka\, KS\, 66608
CATEGORIES:Seaman High
END:VEVENT
BEGIN:VEVENT
DTSTART;TZID=America/North_Dakota/Center:20251106T190000
DTEND;TZID=America/North_Dakota/Center:20251106T200000
DTSTAMP:20260419T141221
CREATED:20250926T005352Z
LAST-MODIFIED:20250926T005352Z
UID:321-1762455600-1762459200@topekatheatre.com
SUMMARY:Puffs
DESCRIPTION:Seaman One Act
URL:https://topekatheatre.com/index.php/event/puffs/
LOCATION:Seaman Auditorium\, 901 NW Lyman Rd\, Topeka\, KS\, 66608
CATEGORIES:Seaman High
END:VEVENT
BEGIN:VEVENT
DTSTART;TZID=America/North_Dakota/Center:20251107T190000
DTEND;TZID=America/North_Dakota/Center:20251107T200000
DTSTAMP:20260419T141221
CREATED:20250926T005504Z
LAST-MODIFIED:20250926T005504Z
UID:323-1762542000-1762545600@topekatheatre.com
SUMMARY:Puffs
DESCRIPTION:Seaman One Act
URL:https://topekatheatre.com/index.php/event/puffs-2/
LOCATION:Seaman Auditorium\, 901 NW Lyman Rd\, Topeka\, KS\, 66608
CATEGORIES:Seaman High
END:VEVENT
BEGIN:VEVENT
DTSTART;TZID=America/North_Dakota/Center:20251108T190000
DTEND;TZID=America/North_Dakota/Center:20251108T200000
DTSTAMP:20260419T141221
CREATED:20250926T005613Z
LAST-MODIFIED:20250926T005613Z
UID:325-1762628400-1762632000@topekatheatre.com
SUMMARY:Puffs
DESCRIPTION:Seaman One Act
URL:https://topekatheatre.com/index.php/event/puffs-3/
LOCATION:Seaman Auditorium\, 901 NW Lyman Rd\, Topeka\, KS\, 66608
CATEGORIES:Seaman High
END:VEVENT
END:VCALENDAR