BEGIN:VCALENDAR
VERSION:2.0
PRODID:-//topekatheatre.com - ECPv6.8.3//NONSGML v1.0//EN
CALSCALE:GREGORIAN
METHOD:PUBLISH
X-WR-CALNAME:topekatheatre.com
X-ORIGINAL-URL:https://topekatheatre.com
X-WR-CALDESC:Events for topekatheatre.com
REFRESH-INTERVAL;VALUE=DURATION:PT1H
X-Robots-Tag:noindex
X-PUBLISHED-TTL:PT1H
BEGIN:VTIMEZONE
TZID:America/North_Dakota/Center
BEGIN:DAYLIGHT
TZOFFSETFROM:-0600
TZOFFSETTO:-0500
TZNAME:CDT
DTSTART:20230312T080000
END:DAYLIGHT
BEGIN:STANDARD
TZOFFSETFROM:-0500
TZOFFSETTO:-0600
TZNAME:CST
DTSTART:20231105T070000
END:STANDARD
BEGIN:DAYLIGHT
TZOFFSETFROM:-0600
TZOFFSETTO:-0500
TZNAME:CDT
DTSTART:20240310T080000
END:DAYLIGHT
BEGIN:STANDARD
TZOFFSETFROM:-0500
TZOFFSETTO:-0600
TZNAME:CST
DTSTART:20241103T070000
END:STANDARD
END:VTIMEZONE
BEGIN:VEVENT
DTSTART;TZID=America/North_Dakota/Center:20240215T190000
DTEND;TZID=America/North_Dakota/Center:20240215T210000
DTSTAMP:20260420T025540
CREATED:20231209T190531Z
LAST-MODIFIED:20231209T190531Z
UID:123-1708023600-1708030800@topekatheatre.com
SUMMARY:Mean Girls: High School Edition the Musical
DESCRIPTION:Topeka High School
URL:https://topekatheatre.com/index.php/event/mean-girls-high-school-edition-the-musical/
LOCATION:Trojan Theater\, 800 Sw 10th St\, Topeka\, KS\, 66612
CATEGORIES:Topeka High
END:VEVENT
BEGIN:VEVENT
DTSTART;TZID=America/North_Dakota/Center:20240215T190000
DTEND;TZID=America/North_Dakota/Center:20240215T210000
DTSTAMP:20260420T025540
CREATED:20231126T054635Z
LAST-MODIFIED:20231209T173557Z
UID:7-1708023600-1708030800@topekatheatre.com
SUMMARY:Fiddler on the Roof
DESCRIPTION:Washburn Rural Winter Musical
URL:https://topekatheatre.com/index.php/event/washburn-rural-spring-musical/
LOCATION:Washburn Rural Auditorium\, 5900 SW 61st St\, Topeka\, KS\, 66619
CATEGORIES:Washburn Rural
END:VEVENT
BEGIN:VEVENT
DTSTART;TZID=America/North_Dakota/Center:20231214T183000
DTEND;TZID=America/North_Dakota/Center:20231214T203000
DTSTAMP:20260420T025540
CREATED:20231209T181229Z
LAST-MODIFIED:20231209T195244Z
UID:103-1702578600-1702585800@topekatheatre.com
SUMMARY:Black Box Improv Theater
DESCRIPTION:Hayden Catholic High School
URL:https://topekatheatre.com/index.php/event/black-box-improv-theater/
LOCATION:Black Box Theater – Wildcat Hall\, Haber Korn Dr\, Topeka\, KS\, 66606
CATEGORIES:Hayden Catholic
END:VEVENT
END:VCALENDAR