BEGIN:VCALENDAR
VERSION:2.0
PRODID:-//topekatheatre.com - ECPv6.8.3//NONSGML v1.0//EN
CALSCALE:GREGORIAN
METHOD:PUBLISH
X-ORIGINAL-URL:https://topekatheatre.com
X-WR-CALDESC:Events for topekatheatre.com
REFRESH-INTERVAL;VALUE=DURATION:PT1H
X-Robots-Tag:noindex
X-PUBLISHED-TTL:PT1H
BEGIN:VTIMEZONE
TZID:America/North_Dakota/Center
BEGIN:DAYLIGHT
TZOFFSETFROM:-0600
TZOFFSETTO:-0500
TZNAME:CDT
DTSTART:20240310T080000
END:DAYLIGHT
BEGIN:STANDARD
TZOFFSETFROM:-0500
TZOFFSETTO:-0600
TZNAME:CST
DTSTART:20241103T070000
END:STANDARD
END:VTIMEZONE
BEGIN:VEVENT
DTSTART;TZID=America/North_Dakota/Center:20240411T190000
DTEND;TZID=America/North_Dakota/Center:20240411T210000
DTSTAMP:20260420T062359
CREATED:20231206T041238Z
LAST-MODIFIED:20231209T173412Z
UID:75-1712862000-1712869200@topekatheatre.com
SUMMARY:Complete Works of Shakespeare Abridged
DESCRIPTION:Washburn Rural Spring Play
URL:https://topekatheatre.com/index.php/event/washburn-rural-spring-play/
LOCATION:Washburn Rural Auditorium\, 5900 SW 61st St\, Topeka\, KS\, 66619
CATEGORIES:Washburn Rural
END:VEVENT
BEGIN:VEVENT
DTSTART;TZID=America/North_Dakota/Center:20240412T190000
DTEND;TZID=America/North_Dakota/Center:20240412T210000
DTSTAMP:20260420T062359
CREATED:20231206T213938Z
LAST-MODIFIED:20231209T173342Z
UID:77-1712948400-1712955600@topekatheatre.com
SUMMARY:Complete Works of Shakespeare Abridged
DESCRIPTION:Washburn Rural Spring Play
URL:https://topekatheatre.com/index.php/event/washburn-rural/
LOCATION:Washburn Rural Auditorium\, 5900 SW 61st St\, Topeka\, KS\, 66619
CATEGORIES:Washburn Rural
END:VEVENT
BEGIN:VEVENT
DTSTART;TZID=America/North_Dakota/Center:20240412T190000
DTEND;TZID=America/North_Dakota/Center:20240412T210000
DTSTAMP:20260420T062359
CREATED:20231209T185131Z
LAST-MODIFIED:20231209T194742Z
UID:118-1712948400-1712955600@topekatheatre.com
SUMMARY:Musical
DESCRIPTION:Cair Paravel Latin School
URL:https://topekatheatre.com/index.php/event/musical-5/
LOCATION:Stone Table Theater\, 1148 SW 7th St\, Topeka\, KS\, 66606
CATEGORIES:Cair Paravel
END:VEVENT
BEGIN:VEVENT
DTSTART;TZID=America/North_Dakota/Center:20240413T190000
DTEND;TZID=America/North_Dakota/Center:20240413T210000
DTSTAMP:20260420T062359
CREATED:20231209T171956Z
LAST-MODIFIED:20231209T173315Z
UID:82-1713034800-1713042000@topekatheatre.com
SUMMARY:Complete Works of Shakespeare Abridged
DESCRIPTION:Washburn Rural Spring Play
URL:https://topekatheatre.com/index.php/event/washburn-rural-spring-play-2/
LOCATION:KS
CATEGORIES:Washburn Rural
END:VEVENT
BEGIN:VEVENT
DTSTART;TZID=America/North_Dakota/Center:20240413T190000
DTEND;TZID=America/North_Dakota/Center:20240413T210000
DTSTAMP:20260420T062359
CREATED:20231209T183224Z
LAST-MODIFIED:20231209T194815Z
UID:110-1713034800-1713042000@topekatheatre.com
SUMMARY:Musical
DESCRIPTION:Cair Paravel Latin School
URL:https://topekatheatre.com/index.php/event/musical/
LOCATION:Stone Table Theater\, 1148 SW 7th St\, Topeka\, KS\, 66606
CATEGORIES:Cair Paravel
END:VEVENT
BEGIN:VEVENT
DTSTART;TZID=America/North_Dakota/Center:20240418T190000
DTEND;TZID=America/North_Dakota/Center:20240418T210000
DTSTAMP:20260420T062359
CREATED:20231209T190016Z
LAST-MODIFIED:20231209T195007Z
UID:112-1713466800-1713474000@topekatheatre.com
SUMMARY:Musical
DESCRIPTION:Cair Paravel Latin School
URL:https://topekatheatre.com/index.php/event/musical-2/
LOCATION:Stone Table Theater\, 1148 SW 7th St\, Topeka\, KS\, 66606
CATEGORIES:Cair Paravel
END:VEVENT
BEGIN:VEVENT
DTSTART;TZID=America/North_Dakota/Center:20240418T190000
DTEND;TZID=America/North_Dakota/Center:20240418T210000
DTSTAMP:20260420T062359
CREATED:20231209T191234Z
LAST-MODIFIED:20231209T191234Z
UID:129-1713466800-1713474000@topekatheatre.com
SUMMARY:Cyrano de Bergerac
DESCRIPTION:Topeka High Play
URL:https://topekatheatre.com/index.php/event/cyrano-de-bergerac/
LOCATION:Trojan Theater\, 800 Sw 10th St\, Topeka\, KS\, 66612
CATEGORIES:Topeka High
END:VEVENT
BEGIN:VEVENT
DTSTART;TZID=America/North_Dakota/Center:20240419T190000
DTEND;TZID=America/North_Dakota/Center:20240419T210000
DTSTAMP:20260420T062359
CREATED:20231209T184852Z
LAST-MODIFIED:20231209T195155Z
UID:114-1713553200-1713560400@topekatheatre.com
SUMMARY:Musical
DESCRIPTION:Cair Paravel Latin School
URL:https://topekatheatre.com/index.php/event/musical-3/
LOCATION:Stone Table Theater\, 1148 SW 7th St\, Topeka\, KS\, 66606
CATEGORIES:Cair Paravel
END:VEVENT
BEGIN:VEVENT
DTSTART;TZID=America/North_Dakota/Center:20240419T190000
DTEND;TZID=America/North_Dakota/Center:20240419T210000
DTSTAMP:20260420T062359
CREATED:20231209T191418Z
LAST-MODIFIED:20231209T191418Z
UID:131-1713553200-1713560400@topekatheatre.com
SUMMARY:Cyrano de Bergerac
DESCRIPTION:Topeka High Play
URL:https://topekatheatre.com/index.php/event/cyrano-de-bergerac-2/
LOCATION:Trojan Theater\, 800 Sw 10th St\, Topeka\, KS\, 66612
CATEGORIES:Topeka High
END:VEVENT
BEGIN:VEVENT
DTSTART;TZID=America/North_Dakota/Center:20240420T190000
DTEND;TZID=America/North_Dakota/Center:20240420T210000
DTSTAMP:20260420T062359
CREATED:20231209T185021Z
LAST-MODIFIED:20231209T195126Z
UID:116-1713639600-1713646800@topekatheatre.com
SUMMARY:Musical
DESCRIPTION:Cair Paravel Latin School
URL:https://topekatheatre.com/index.php/event/musical-4/
LOCATION:Stone Table Theater\, 1148 SW 7th St\, Topeka\, KS\, 66606
CATEGORIES:Cair Paravel
END:VEVENT
BEGIN:VEVENT
DTSTART;TZID=America/North_Dakota/Center:20240420T190000
DTEND;TZID=America/North_Dakota/Center:20240420T210000
DTSTAMP:20260420T062359
CREATED:20231209T191544Z
LAST-MODIFIED:20231209T191544Z
UID:133-1713639600-1713646800@topekatheatre.com
SUMMARY:Cyrano de Bergerac
DESCRIPTION:Topeka High Play
URL:https://topekatheatre.com/index.php/event/cyrano-de-bergerac-3/
LOCATION:Trojan Theater\, 800 Sw 10th St\, Topeka\, KS\, 66612
CATEGORIES:Topeka High
END:VEVENT
BEGIN:VEVENT
DTSTART;TZID=America/North_Dakota/Center:20240425T190000
DTEND;TZID=America/North_Dakota/Center:20240425T190000
DTSTAMP:20260420T062359
CREATED:20240210T164811Z
LAST-MODIFIED:20240210T164811Z
UID:191-1714071600-1714071600@topekatheatre.com
SUMMARY:Spring Play
DESCRIPTION:Shawnee Heights Spring Play
URL:https://topekatheatre.com/index.php/event/spring-play-3/
LOCATION:Shawnee Heights\, 4201 SE Shawnee Heights Rd\, Tecumseh\, KS\, 66542
CATEGORIES:Shawnee Heights
END:VEVENT
BEGIN:VEVENT
DTSTART;TZID=America/North_Dakota/Center:20240425T190000
DTEND;TZID=America/North_Dakota/Center:20240425T210000
DTSTAMP:20260420T062359
CREATED:20231210T001122Z
LAST-MODIFIED:20240323T000938Z
UID:150-1714071600-1714078800@topekatheatre.com
SUMMARY:Leaving Iowa
DESCRIPTION:Highland Park Spring Play
URL:https://topekatheatre.com/index.php/event/spring-play/
LOCATION:Highland Park\, 2424 SE California Ave\, Topeka\, KS\, 66605
CATEGORIES:Highland Park
END:VEVENT
BEGIN:VEVENT
DTSTART;TZID=America/North_Dakota/Center:20240426T190000
DTEND;TZID=America/North_Dakota/Center:20240426T190000
DTSTAMP:20260420T062359
CREATED:20240210T164921Z
LAST-MODIFIED:20240210T164921Z
UID:193-1714158000-1714158000@topekatheatre.com
SUMMARY:Spring Play
DESCRIPTION:Shawnee Heights Spring Play
URL:https://topekatheatre.com/index.php/event/spring-play-4/
LOCATION:Shawnee Heights\, 4201 SE Shawnee Heights Rd\, Tecumseh\, KS\, 66542
CATEGORIES:Shawnee Heights
END:VEVENT
BEGIN:VEVENT
DTSTART;TZID=America/North_Dakota/Center:20240426T190000
DTEND;TZID=America/North_Dakota/Center:20240426T210000
DTSTAMP:20260420T062359
CREATED:20231210T001224Z
LAST-MODIFIED:20240323T000740Z
UID:152-1714158000-1714165200@topekatheatre.com
SUMMARY:Leaving Iowa
DESCRIPTION:Highland Park Spring Play
URL:https://topekatheatre.com/index.php/event/spring-play-2/
LOCATION:Highland Park\, 2424 SE California Ave\, Topeka\, KS\, 66605
CATEGORIES:Highland Park
END:VEVENT
BEGIN:VEVENT
DTSTART;TZID=America/North_Dakota/Center:20240427T190000
DTEND;TZID=America/North_Dakota/Center:20240427T190000
DTSTAMP:20260420T062359
CREATED:20240210T165037Z
LAST-MODIFIED:20240210T165037Z
UID:195-1714244400-1714244400@topekatheatre.com
SUMMARY:Spring Play
DESCRIPTION:Shawnee Heights Spring Play
URL:https://topekatheatre.com/index.php/event/spring-play-5/
LOCATION:Shawnee Heights\, 4201 SE Shawnee Heights Rd\, Tecumseh\, KS\, 66542
CATEGORIES:Shawnee Heights
END:VEVENT
END:VCALENDAR