BEGIN:VCALENDAR
VERSION:2.0
PRODID:-//topekatheatre.com - ECPv6.8.3//NONSGML v1.0//EN
CALSCALE:GREGORIAN
METHOD:PUBLISH
X-WR-CALNAME:topekatheatre.com
X-ORIGINAL-URL:https://topekatheatre.com
X-WR-CALDESC:Events for topekatheatre.com
REFRESH-INTERVAL;VALUE=DURATION:PT1H
X-Robots-Tag:noindex
X-PUBLISHED-TTL:PT1H
BEGIN:VTIMEZONE
TZID:America/North_Dakota/Center
BEGIN:DAYLIGHT
TZOFFSETFROM:-0600
TZOFFSETTO:-0500
TZNAME:CDT
DTSTART:20250309T080000
END:DAYLIGHT
BEGIN:STANDARD
TZOFFSETFROM:-0500
TZOFFSETTO:-0600
TZNAME:CST
DTSTART:20251102T070000
END:STANDARD
END:VTIMEZONE
BEGIN:VEVENT
DTSTART;TZID=America/North_Dakota/Center:20250130T190000
DTEND;TZID=America/North_Dakota/Center:20250130T213000
DTSTAMP:20260419T140223
CREATED:20250118T182548Z
LAST-MODIFIED:20250118T182548Z
UID:285-1738263600-1738272600@topekatheatre.com
SUMMARY:Urinetown the Musical - Washburn Rural
DESCRIPTION:Winter Musical – Washburn Rural
URL:https://topekatheatre.com/index.php/event/urinetown-the-musical-washburn-rural/
LOCATION:Washburn Rural Auditorium\, 5900 SW 61st St\, Topeka\, KS\, 66619
CATEGORIES:Washburn Rural
END:VEVENT
BEGIN:VEVENT
DTSTART;TZID=America/North_Dakota/Center:20250131T190000
DTEND;TZID=America/North_Dakota/Center:20250131T213000
DTSTAMP:20260419T140223
CREATED:20250118T182712Z
LAST-MODIFIED:20250118T182712Z
UID:287-1738350000-1738359000@topekatheatre.com
SUMMARY:Urinetown the Musical - Washburn Rural
DESCRIPTION:Winter Musical – Washburn Rural
URL:https://topekatheatre.com/index.php/event/urinetown-the-musical-washburn-rural-2/
LOCATION:Washburn Rural Auditorium\, 5900 SW 61st St\, Topeka\, KS\, 66619
CATEGORIES:Washburn Rural
END:VEVENT
END:VCALENDAR