BEGIN:VCALENDAR
VERSION:2.0
PRODID:-//topekatheatre.com - ECPv6.8.3//NONSGML v1.0//EN
CALSCALE:GREGORIAN
METHOD:PUBLISH
X-ORIGINAL-URL:https://topekatheatre.com
X-WR-CALDESC:Events for topekatheatre.com
REFRESH-INTERVAL;VALUE=DURATION:PT1H
X-Robots-Tag:noindex
X-PUBLISHED-TTL:PT1H
BEGIN:VTIMEZONE
TZID:America/North_Dakota/Center
BEGIN:DAYLIGHT
TZOFFSETFROM:-0600
TZOFFSETTO:-0500
TZNAME:CDT
DTSTART:20250309T080000
END:DAYLIGHT
BEGIN:STANDARD
TZOFFSETFROM:-0500
TZOFFSETTO:-0600
TZNAME:CST
DTSTART:20251102T070000
END:STANDARD
END:VTIMEZONE
BEGIN:VEVENT
DTSTART;TZID=America/North_Dakota/Center:20250306T190000
DTEND;TZID=America/North_Dakota/Center:20250306T213000
DTSTAMP:20260419T110041
CREATED:20250118T184454Z
LAST-MODIFIED:20250118T184454Z
UID:302-1741287600-1741296600@topekatheatre.com
SUMMARY:Frozen Jr. - Topeka High
DESCRIPTION:Topeka High Winter Musical
URL:https://topekatheatre.com/index.php/event/frozen-jr-topeka-high/
LOCATION:Trojan Theater\, 800 Sw 10th St\, Topeka\, KS\, 66612
CATEGORIES:Topeka High
END:VEVENT
BEGIN:VEVENT
DTSTART;TZID=America/North_Dakota/Center:20250307T190000
DTEND;TZID=America/North_Dakota/Center:20250307T213000
DTSTAMP:20260419T110041
CREATED:20250118T184632Z
LAST-MODIFIED:20250118T184632Z
UID:304-1741374000-1741383000@topekatheatre.com
SUMMARY:Frozen Jr. - Topeka High
DESCRIPTION:Topeka High Winter Musical
URL:https://topekatheatre.com/index.php/event/frozen-jr-topeka-high-2/
LOCATION:Trojan Theater\, 800 Sw 10th St\, Topeka\, KS\, 66612
CATEGORIES:Topeka High
END:VEVENT
BEGIN:VEVENT
DTSTART;TZID=America/North_Dakota/Center:20250308T140000
DTEND;TZID=America/North_Dakota/Center:20250308T163000
DTSTAMP:20260419T110041
CREATED:20250118T184818Z
LAST-MODIFIED:20250118T184818Z
UID:306-1741442400-1741451400@topekatheatre.com
SUMMARY:Frozen Jr. - Topeka High
DESCRIPTION:Topeka High Winter Musical
URL:https://topekatheatre.com/index.php/event/frozen-jr-topeka-high-3/
LOCATION:Trojan Theater\, 800 Sw 10th St\, Topeka\, KS\, 66612
CATEGORIES:Topeka High
END:VEVENT
BEGIN:VEVENT
DTSTART;TZID=America/North_Dakota/Center:20250309T140000
DTEND;TZID=America/North_Dakota/Center:20250309T163000
DTSTAMP:20260419T110041
CREATED:20250118T184934Z
LAST-MODIFIED:20250118T184934Z
UID:308-1741528800-1741537800@topekatheatre.com
SUMMARY:Frozen Jr. - Topeka High
DESCRIPTION:Topeka High Winter Musical
URL:https://topekatheatre.com/index.php/event/frozen-jr-topeka-high-4/
LOCATION:Trojan Theater\, 800 Sw 10th St\, Topeka\, KS\, 66612
CATEGORIES:Topeka High
END:VEVENT
END:VCALENDAR